BEGIN:VCALENDAR
VERSION:2.0
PRODID:-//MaMis en Movimiento e.V. - ECPv6.15.20//NONSGML v1.0//EN
CALSCALE:GREGORIAN
METHOD:PUBLISH
X-WR-CALNAME:MaMis en Movimiento e.V.
X-ORIGINAL-URL:https://mamis-en-movimiento.de
X-WR-CALDESC:Veranstaltungen für MaMis en Movimiento e.V.
REFRESH-INTERVAL;VALUE=DURATION:PT1H
X-Robots-Tag:noindex
X-PUBLISHED-TTL:PT1H
BEGIN:VTIMEZONE
TZID:Europe/Berlin
BEGIN:DAYLIGHT
TZOFFSETFROM:+0100
TZOFFSETTO:+0200
TZNAME:CEST
DTSTART:20250330T010000
END:DAYLIGHT
BEGIN:STANDARD
TZOFFSETFROM:+0200
TZOFFSETTO:+0100
TZNAME:CET
DTSTART:20251026T010000
END:STANDARD
BEGIN:DAYLIGHT
TZOFFSETFROM:+0100
TZOFFSETTO:+0200
TZNAME:CEST
DTSTART:20260329T010000
END:DAYLIGHT
BEGIN:STANDARD
TZOFFSETFROM:+0200
TZOFFSETTO:+0100
TZNAME:CET
DTSTART:20261025T010000
END:STANDARD
BEGIN:DAYLIGHT
TZOFFSETFROM:+0100
TZOFFSETTO:+0200
TZNAME:CEST
DTSTART:20270328T010000
END:DAYLIGHT
BEGIN:STANDARD
TZOFFSETFROM:+0200
TZOFFSETTO:+0100
TZNAME:CET
DTSTART:20271031T010000
END:STANDARD
END:VTIMEZONE
BEGIN:VEVENT
DTSTART;VALUE=DATE:20260401
DTEND;VALUE=DATE:20260501
DTSTAMP:20260422T101801
CREATED:20260406T072710Z
LAST-MODIFIED:20260406T072710Z
UID:8434-1775001600-1777593599@mamis-en-movimiento.de
SUMMARY:Talleres 2026 - 2° Temporada
DESCRIPTION:¡Abrimos inscripciones para la segunda temporada de Talleres Mamis en Movimiento! ✨🌿 \nDe mayo a julio seguimos creando espacios para que las infancias se acerquen al español a través del arte\, el movimiento y el juego. \n📝 Inscripciones\n📌 Hasta el 9 de abril\nInscripción con prioridad exclusiva para las familias que ya forman parte de nuestra comunidad. \n📌 Desde el 10 de abril\nInscripciones abiertas a todo público\, según cupos disponibles. \n📍 Encontranos en Wedding\, Friedrichshain\, Prenzlauer Berg\, Pankow\, Treptow\, Neukölln y Schöneberg. \n🔗 Inscripciones: https://mamis-en-movimiento.de/kursefurkinder_de/\n📩 Consultas: talleres@mamis-en-movimiento.de
URL:https://mamis-en-movimiento.de/aktuelle/talleres-2026-2-temporada/
CATEGORIES:Talleres
ATTACH;FMTTYPE=image/png:https://mamis-en-movimiento.de/wp-content/uploads/2026/04/1.png
ORGANIZER;CN="Mamis en Movimiento e.V":MAILTO:leitung@mamis-en-movimiento.de
END:VEVENT
BEGIN:VEVENT
DTSTART;TZID=Europe/Berlin:20260420T153000
DTEND;TZID=Europe/Berlin:20260420T173000
DTSTAMP:20260422T101801
CREATED:20260406T070834Z
LAST-MODIFIED:20260406T070834Z
UID:8404-1776699000-1776706200@mamis-en-movimiento.de
SUMMARY:Mehrsprachige Familien im Dialog
DESCRIPTION:Austausch – Unterstützung – Vernetzung \nAustauschgruppe für Familien\nAlle sind willkommen! \nMehrsprachige Erziehung kann für Familien mit Migrationsgeschichte eine Herausforderung sein.\n„Mehrsprachige Familien im Dialog“ bietet einen monatlichen Raum für Austausch\, Unterstützung und Vernetzung. \n📅 Termine & Themen 2026:\n20.04.26 – Das deutsche Bildungssystem\n04.05.26 – Lesen und Schreiben: wie kann man zu Hause und ausgehend von unserer Sprache unterstützen?\n01.06.26 – Mathematik: wie kann man zu Hause und ausgehend von unserer Sprache unterstützen?\n07.09.26 – Zweisprachige oder einsprachige Schule\n05.10.26 – Wann braucht mein Kind wirklich eine Logopäd*in oder eine andere therapeutische Fachkraft?\n02.11.26 – Diskriminierung aufgrund der Sprache \nJeden ersten Montag im Monat\, 15:30 – 17:30 Uhr \n📍 Ort: Familienzentrum Felix\nZühlsdorfer Str. 16/18\, 12679 Berlin \n💬 Für: Familien mit Flucht- und Migrationsgeschichte (und alle Interessierten)\n✨ Offen & herzlich willkommen! \n#MamisEnMovimiento #elternecke #familienzentrumfelix
URL:https://mamis-en-movimiento.de/aktuelle/mehrsprachige-familien-im-dialog-2/
LOCATION:Familienzentrum Felix\, Zühlsdorfer Str. 16/18\, Berlin\, Berlin\, 12679\, Germany
CATEGORIES:Elternecke_MH
ATTACH;FMTTYPE=image/png:https://mamis-en-movimiento.de/wp-content/uploads/2026/04/MH-2026_3.png
END:VEVENT
END:VCALENDAR